BEGIN:VCALENDAR
VERSION:2.0
PRODID:-//Ljus i Öster - ECPv6.15.20//NONSGML v1.0//EN
CALSCALE:GREGORIAN
METHOD:PUBLISH
X-ORIGINAL-URL:https://ljusioster.se
X-WR-CALDESC:Händelser för Ljus i Öster
REFRESH-INTERVAL;VALUE=DURATION:PT1H
X-Robots-Tag:noindex
X-PUBLISHED-TTL:PT1H
BEGIN:VTIMEZONE
TZID:UTC
BEGIN:STANDARD
TZOFFSETFROM:+0000
TZOFFSETTO:+0000
TZNAME:UTC
DTSTART:20250101T000000
END:STANDARD
END:VTIMEZONE
BEGIN:VEVENT
DTSTART;VALUE=DATE:20260206
DTEND;VALUE=DATE:20260207
DTSTAMP:20260422T053420
CREATED:20260115T080728Z
LAST-MODIFIED:20260115T080817Z
UID:21343-1770336000-1770422399@ljusioster.se
SUMMARY:Ungdomssamling Folkungakyrkan\, Stockholm
DESCRIPTION:Fredag 6/2 besöker Ljus i Öster Folkungakyrkan i Stockholms ungdomssamling. Deborah Odebäck\, fältansvarig på Ljus i Öster\, kommer att berätta om Ljus i Östers arbete. Mer information om tid kommer.
URL:https://ljusioster.se/event/ungdomssamling-folkungakyrkan-stockholm/
LOCATION:Folkungakyrkan\, Folkungagatan 90\, Stockholm\, 116 22\, Sweden
CATEGORIES:Ungdomssamling
END:VEVENT
BEGIN:VEVENT
DTSTART;TZID=UTC:20260226T083000
DTEND;TZID=UTC:20260226T153000
DTSTAMP:20260422T053420
CREATED:20260212T115026Z
LAST-MODIFIED:20260212T115416Z
UID:21386-1772094600-1772119800@ljusioster.se
SUMMARY:PROMIS-dagen 26/2\, ALT:s studiecenter (och digitalt)
DESCRIPTION:Torsdag 26 februari deltar Magnus Alphonce från Ljus i Öster på PROMIS-dagen i Örebro. I en värld där polarisering\, krig och kriser dominerar vardagen för många tror vi att evangeliet – det goda budskapet – behövs mer än någonsin. Välkommen till en dag där vi vill ta missionsbefallningen på allvar genom att fundera över frågor som: \n\n\nHur ser behoven ut i världen och vad är kyrkans roll i mötet med världens behov? \n\n\nVad innebär mission och vem är missionär? \n\n\nHur kan vi förstärka/öka sändandet? \n\n\nDagen inleds med en teologisk omvärldsanalys och därefter kommer representanter från svenska samfund och missionsorganisationer ge sina bilder av sändandets möjligheter och utmaningar. \nLäs mer: altutbildning.se/kalender/promis-dag \nKostnad för deltagande på studiecenter i Sverige är 300 kr (inkl. fika och lunch). Betalas på plats via Swish eller via faktura. Sista anmälningsdag är 18 februari.
URL:https://ljusioster.se/event/promis-dagen-26-2-orebro-och-digitalt/
END:VEVENT
BEGIN:VEVENT
DTSTART;VALUE=DATE:20260227
DTEND;VALUE=DATE:20260302
DTSTAMP:20260422T053420
CREATED:20251126T125927Z
LAST-MODIFIED:20260212T122346Z
UID:21150-1772150400-1772409599@ljusioster.se
SUMMARY:Missionskonferensen Decided
DESCRIPTION:Decided – ett hjärta större än världen. 27 februari-1 mars är vi med och arrangerar missionskonferensen Decided i pingstkyrkan i Alingsås. \nLördag 28 februari\n13.00-15.00 Håller Ljus i Öster i en träff för unga missionsintresserade. \nSe hela programmet här.
URL:https://ljusioster.se/event/missionskonferensen-decided-2/
LOCATION:Pingstkyrkan Alingsås\, Landskyrkoallén 4\, Alingsås\, 441 34
END:VEVENT
END:VCALENDAR