BEGIN:VCALENDAR
VERSION:2.0
PRODID:-//Ljus i Öster - ECPv6.15.20//NONSGML v1.0//EN
CALSCALE:GREGORIAN
METHOD:PUBLISH
X-WR-CALNAME:Ljus i Öster
X-ORIGINAL-URL:https://ljusioster.se
X-WR-CALDESC:Händelser för Ljus i Öster
REFRESH-INTERVAL;VALUE=DURATION:PT1H
X-Robots-Tag:noindex
X-PUBLISHED-TTL:PT1H
BEGIN:VTIMEZONE
TZID:UTC
BEGIN:STANDARD
TZOFFSETFROM:+0000
TZOFFSETTO:+0000
TZNAME:UTC
DTSTART:20250101T000000
END:STANDARD
END:VTIMEZONE
BEGIN:VEVENT
DTSTART;VALUE=DATE:20260123
DTEND;VALUE=DATE:20260125
DTSTAMP:20260422T053222
CREATED:20251126T125514Z
LAST-MODIFIED:20251126T125613Z
UID:21146-1769126400-1769299199@ljusioster.se
SUMMARY:Missionskonferensen ALLA FOLK
DESCRIPTION:Fredag och lördag den 23 – 24 januari kommer Ljus i Öster att finnas på plats med en monter på SEMAS missionskonferens ALLA FOLK i Kungsportkyrkan i Huskvarna. \nSyftet med konferensen är att uppmuntra till det stora missionsuppdraget. Att från olika sammanhang och organisationer komma samman för att upphöja vår Herre och Frälsare och låta honom tala in i våra hjärtan vad som är vår uppgift i den här tiden. Vår bön är att ALLA FOLK ska vara en konferens av både utrustning och förnyelse. Tillsammans får vi sträcka oss vidare – för att evangeliet ska nå till alla stammar och språk! \nHoppas att vi ses där! \nLäs mer om konferensen\, anmäl dig och se program här. \n 
URL:https://ljusioster.se/event/21146/
LOCATION:Kungsportskyrkan\, Huskvarna\, Kungsängsvägen 25\, Huskvarna\, 561 51\, Sweden
END:VEVENT
END:VCALENDAR