BEGIN:VCALENDAR
VERSION:2.0
PRODID:-//Ljus i Öster - ECPv6.15.20//NONSGML v1.0//EN
CALSCALE:GREGORIAN
METHOD:PUBLISH
X-ORIGINAL-URL:https://ljusioster.se
X-WR-CALDESC:Händelser för Ljus i Öster
REFRESH-INTERVAL;VALUE=DURATION:PT1H
X-Robots-Tag:noindex
X-PUBLISHED-TTL:PT1H
BEGIN:VTIMEZONE
TZID:UTC
BEGIN:STANDARD
TZOFFSETFROM:+0000
TZOFFSETTO:+0000
TZNAME:UTC
DTSTART:20250101T000000
END:STANDARD
END:VTIMEZONE
BEGIN:VEVENT
DTSTART;VALUE=DATE:20260227
DTEND;VALUE=DATE:20260302
DTSTAMP:20260424T053704
CREATED:20251126T125927Z
LAST-MODIFIED:20260212T122346Z
UID:21150-1772150400-1772409599@ljusioster.se
SUMMARY:Missionskonferensen Decided
DESCRIPTION:Decided – ett hjärta större än världen. 27 februari-1 mars är vi med och arrangerar missionskonferensen Decided i pingstkyrkan i Alingsås. \nLördag 28 februari\n13.00-15.00 Håller Ljus i Öster i en träff för unga missionsintresserade. \nSe hela programmet här.
URL:https://ljusioster.se/event/missionskonferensen-decided-2/
LOCATION:Pingstkyrkan Alingsås\, Landskyrkoallén 4\, Alingsås\, 441 34
END:VEVENT
BEGIN:VEVENT
DTSTART;TZID=UTC:20260305T080000
DTEND;TZID=UTC:20260305T170000
DTSTAMP:20260424T053704
CREATED:20260303T101821Z
LAST-MODIFIED:20260303T101821Z
UID:21610-1772697600-1772730000@ljusioster.se
SUMMARY:Torsdagssamling Evangeliska Östasienmissionen\, Betelehemskyrkan
DESCRIPTION:Magnus Alphonce gästar EÖMs torsdagssamling i Betlehemskyrkan i Stockholm den 5 mars klockan 13.30. ”Mission i Djingis Khans spår” om mission i Mongoliet under 30 år.
URL:https://ljusioster.se/event/torsdagssamling-evangeliska-ostasienmissionen-betelehemskyrkan/
LOCATION:Betlehemskyrkan\, Luntmakargatan 82\, Stockholm\, 11351\, Sweden
END:VEVENT
BEGIN:VEVENT
DTSTART;TZID=UTC:20260306T190000
DTEND;TZID=UTC:20260306T203000
DTSTAMP:20260424T053704
CREATED:20251219T135149Z
LAST-MODIFIED:20251219T135149Z
UID:21294-1772823600-1772829000@ljusioster.se
SUMMARY:Ungdomssamling i Ryttargårdskyrkan\, Linköping
DESCRIPTION:Fredagen den 6/3 besöker Magnus Alphonce Ryttargårdskyrkans ungdomssamling Enter klockan 19:00.
URL:https://ljusioster.se/event/ungdomssamling-i-ryttargardskyrkan-linkoping/
LOCATION:Ryttargårdskyrkan\, Djurgårdsgatan 97\, Linköping\, 582 29\, Sweden
END:VEVENT
BEGIN:VEVENT
DTSTART;TZID=UTC:20260322T100000
DTEND;TZID=UTC:20260322T120000
DTSTAMP:20260424T053704
CREATED:20260318T094209Z
LAST-MODIFIED:20260318T094209Z
UID:21730-1774173600-1774180800@ljusioster.se
SUMMARY:Gudstjänst\, Ölmstad Pingst
DESCRIPTION:Söndagen 22 mars besöker Ljus i Öster Ölmstad Pingst. Erik Thunberg kommer att berätta om Ljus i Öster och leda lovsång.
URL:https://ljusioster.se/event/gudstjanst-olmstad-pingst/
LOCATION:Ölmstad Pingst\, Lärkstigen 8\, Gränna\, 563 93
CATEGORIES:Mötesbesök
END:VEVENT
BEGIN:VEVENT
DTSTART;TZID=UTC:20260330T190000
DTEND;TZID=UTC:20260330T203000
DTSTAMP:20260424T053704
CREATED:20260303T100815Z
LAST-MODIFIED:20260303T100815Z
UID:21607-1774897200-1774902600@ljusioster.se
SUMMARY:Öppet möte YWAM\, Linköping
DESCRIPTION:Måndagen den 30/3 besöker Magnus Alphonce YWAM i Linköping klockan 19:00. Han kommer att berätta om Ljus i Öster och dela något från missionsfältet. Det är ett öppet möte med gudstjänst\, undervisning och gemenskap.
URL:https://ljusioster.se/event/oppet-mote-ywam-linkoping/
LOCATION:YWAM Linköping\, Södra Stånggatan 2\, Linköping\, 582 73\, Sweden
END:VEVENT
BEGIN:VEVENT
DTSTART;TZID=UTC:20260408T150000
DTEND;TZID=UTC:20260408T170000
DTSTAMP:20260424T053704
CREATED:20260318T093200Z
LAST-MODIFIED:20260318T093200Z
UID:21727-1775660400-1775667600@ljusioster.se
SUMMARY:RPG-träff\, Bodakyrkan i Borås
DESCRIPTION:Erik Thunberg besöker Bodakyrkan i Borås för en dagträff med RPG (Riksförbundet Pensionärsgemenskap). Han kommer berätta om Ljus i Östers arbete\, spela piano och sjunga.
URL:https://ljusioster.se/event/rpg-traff-bodakyrkan-i-boras/
LOCATION:Bodakyrkan\, Borås\, Milstensgatan 6\, Borås\, 50742\, Sweden
CATEGORIES:Mötesbesök
END:VEVENT
BEGIN:VEVENT
DTSTART;TZID=UTC:20260417T180000
DTEND;TZID=UTC:20260417T193000
DTSTAMP:20260424T053704
CREATED:20260312T133150Z
LAST-MODIFIED:20260317T092746Z
UID:21637-1776448800-1776454200@ljusioster.se
SUMMARY:Missionsturné Hällebergskyrkan\, Ljungskile
DESCRIPTION:Läs mer om missionsturnén här.
URL:https://ljusioster.se/event/missionsturne-hallebergskyrkan-ljungskile-2/
LOCATION:Hällebergskyrkan\, Skälläckerödsvägen 6\, Ljungskile\, 45932\, Sweden
CATEGORIES:Missionsturné
END:VEVENT
BEGIN:VEVENT
DTSTART;TZID=UTC:20260418T180000
DTEND;TZID=UTC:20260418T193000
DTSTAMP:20260424T053704
CREATED:20260212T121239Z
LAST-MODIFIED:20260317T092958Z
UID:21391-1776535200-1776540600@ljusioster.se
SUMMARY:Missionsturné – Bäckseda Missionshus\, Vetlanda
DESCRIPTION:Läs mer om missionsturnén här.
URL:https://ljusioster.se/event/missionsturne-backseda-missionsforsamling-vetlanda/
LOCATION:Bäckseda Missionshus\, Kyrkstigen 3\, Vetlanda\, 574 41\, Sweden
CATEGORIES:Missionsturné
END:VEVENT
BEGIN:VEVENT
DTSTART;TZID=UTC:20260419T100000
DTEND;TZID=UTC:20260419T113000
DTSTAMP:20260424T053704
CREATED:20260212T121632Z
LAST-MODIFIED:20260317T092955Z
UID:21394-1776592800-1776598200@ljusioster.se
SUMMARY:Missionsturné – Livsglädje\, Landskrona
DESCRIPTION:Läs mer om missionsturnén här.
URL:https://ljusioster.se/event/missionsturne-livsgladje-landskrona/
LOCATION:Livsglädje\, Landskrona\, Almstigen 8\, Landskrona\, 261 40\, Sweden
CATEGORIES:Missionsturné
END:VEVENT
BEGIN:VEVENT
DTSTART;TZID=UTC:20260423T140000
DTEND;TZID=UTC:20260423T153000
DTSTAMP:20260424T053704
CREATED:20260217T141032Z
LAST-MODIFIED:20260317T092943Z
UID:21459-1776952800-1776958200@ljusioster.se
SUMMARY:Missionsturné – Sionförsamlingen\, Helsingborg
DESCRIPTION:Läs mer om missionsturnén här.
URL:https://ljusioster.se/event/missionsturne-sionforsamlingen-helsingborg/
LOCATION:Sionförsamlingen Helsingborg\, V Sandviksgatan 26\, Helsingborg\, 25225\, Sweden
CATEGORIES:Missionsturné
END:VEVENT
BEGIN:VEVENT
DTSTART;TZID=UTC:20260424T180000
DTEND;TZID=UTC:20260424T200000
DTSTAMP:20260424T053704
CREATED:20260212T121845Z
LAST-MODIFIED:20260319T173210Z
UID:21398-1777053600-1777060800@ljusioster.se
SUMMARY:Missionsturné – Elimkyrkan\, Simrishamn
DESCRIPTION:Läs mer om missionsturnén här.
URL:https://ljusioster.se/event/missionsturne-elimkyrkan-simrishamn/
LOCATION:Elimförsamlingen i Simrishamn\, Järnvägsgatan 13\, Simrishamn\, 272 32\, Sweden
CATEGORIES:Missionsturné
END:VEVENT
BEGIN:VEVENT
DTSTART;VALUE=DATE:20260425
DTEND;VALUE=DATE:20260426
DTSTAMP:20260424T053704
CREATED:20260115T080313Z
LAST-MODIFIED:20260317T092924Z
UID:21341-1777075200-1777161599@ljusioster.se
SUMMARY:Missionsdag och årsmöte\, Hyllie Park
DESCRIPTION:Lördagen 25 april bjuder vi in till årsmöte och missionsdag i Hyllie Park\, Malmö. \nLäs mer om missionsturnén här.
URL:https://ljusioster.se/event/missionsdag-och-arsmote-hyllie-park/
LOCATION:Hyllie Park\, Elinelundsvägen 55 D\, Malmö\, 216 23\, Sweden
CATEGORIES:Årsmöte,Missionsturné
END:VEVENT
BEGIN:VEVENT
DTSTART;TZID=UTC:20260426T110000
DTEND;TZID=UTC:20260426T123000
DTSTAMP:20260424T053704
CREATED:20260212T122009Z
LAST-MODIFIED:20260317T092938Z
UID:21400-1777201200-1777206600@ljusioster.se
SUMMARY:Missionsturné – Hyllie Park\, Malmö
DESCRIPTION:Läs mer om missionsturnén här.
URL:https://ljusioster.se/event/missionsturne-hyllie-park-malmo/
LOCATION:Hyllie Park\, Elinelundsvägen 55 D\, Malmö\, 216 23\, Sweden
CATEGORIES:Missionsturné,Mötesbesök
END:VEVENT
BEGIN:VEVENT
DTSTART;TZID=UTC:20260503T103000
DTEND;TZID=UTC:20260503T120000
DTSTAMP:20260424T053704
CREATED:20260417T125116Z
LAST-MODIFIED:20260417T125116Z
UID:21828-1777804200-1777809600@ljusioster.se
SUMMARY:Gudstjänst Härnakyrkan\, Ljungsbro
DESCRIPTION:Söndagen 3 maj mars klockan 10.30 besöker Ljus i Öster Härnakyrkan i Ljungsbro. Magnus Alphonce kommer att predika och berätta om Ljus i Östers arbete.\nVälkommen!
URL:https://ljusioster.se/event/gudstjanst-harnakyrkan-ljungsbro/
LOCATION:Härnakyrkan i Ljungsbro\, Håcklagatan 29\, Ljungsbro\, 585 74\, Sweden
CATEGORIES:Mötesbesök
END:VEVENT
BEGIN:VEVENT
DTSTART;TZID=UTC:20260607T103000
DTEND;TZID=UTC:20260607T120000
DTSTAMP:20260424T053704
CREATED:20260417T125506Z
LAST-MODIFIED:20260417T125506Z
UID:21831-1780828200-1780833600@ljusioster.se
SUMMARY:Gudstjänst Timmersdala Frikyrkoförsamling
DESCRIPTION:Söndagen 7 juni  klockan 10.30 besöker Ljus i Öster Timmersdala Frikyrkoförsamling. Magnus Alphonce kommer att predika och berätta om Ljus i Östers arbete. \nVälkommen!
URL:https://ljusioster.se/event/gudstjanst-timmersdala-frikyrkoforsamling/
LOCATION:Timmersdala Frikyrkoförsamling\, Mariestadsvägen 11\, Timmersdal\, 541 71\, Sweden
CATEGORIES:Mötesbesök
END:VEVENT
BEGIN:VEVENT
DTSTART;VALUE=DATE:20260615
DTEND;VALUE=DATE:20260622
DTSTAMP:20260424T053704
CREATED:20260318T091257Z
LAST-MODIFIED:20260318T091257Z
UID:21722-1781481600-1782086399@ljusioster.se
SUMMARY:Torpkonferensen
DESCRIPTION:Ljus i Öster kommer att delta med monter på Torpkonferensen 15-21 juni. Hoppas att vi ses där! \nMer info om vår monter kommer senare.
URL:https://ljusioster.se/event/torpkonferensen-5/
LOCATION:Torpkonferensen\, Torp\, Kräcklinge\, Kumla\, 692 93\, Sverige
END:VEVENT
BEGIN:VEVENT
DTSTART;VALUE=DATE:20260702
DTEND;VALUE=DATE:20260706
DTSTAMP:20260424T053704
CREATED:20260318T092122Z
LAST-MODIFIED:20260318T092239Z
UID:21725-1782950400-1783295999@ljusioster.se
SUMMARY:Gullbrannafestivalen
DESCRIPTION:Ljus i Öster kommer att delta och ha en monter på Gullbrannafestivalen 2-5 juli. Hoppas att vi ses där! \nMer info om vår monter kommer senare.
URL:https://ljusioster.se/event/gullbrannafestivalen-3/
LOCATION:Gullbrannagården\, Gullbrannagården 200\, Eldsberga\, 305 96\, Sverige
END:VEVENT
END:VCALENDAR